BEGIN:VCALENDAR
VERSION:2.0
PRODID:-//hacksw/handcal//NONSGML v1.0//EN
CALSCALE:GREGORIAN
BEGIN:VEVENT
SUMMARY:The Testament of Ann Lee
DTSTART:20260323T104500Z
DTEND:20260323T133200Z
GEO:51.07124;13.75051
LOCATION:Filmtheater Schauburg\, Königsbrücker Straße 55\, 01099 Dresden
DESCRIPTION:
URL;VALUE=URI:http://umland.kika-dresden.de/termin1592913.html
DTSTAMP:20260421T185608Z
UID:69e7c848d8958
END:VEVENT
END:VCALENDAR