BEGIN:VCALENDAR
VERSION:2.0
PRODID:-//hacksw/handcal//NONSGML v1.0//EN
CALSCALE:GREGORIAN
BEGIN:VEVENT
SUMMARY:SARDINIEN  aktiv - Zu Fuß\, mit Kajak\, Flossen und Gleitschirm
DTSTART:20270307T160000Z
GEO:51.07124;13.75051
LOCATION:Filmtheater Schauburg\, Königsbrücker Straße 55\, 01099 Dresden
DESCRIPTION:
URL;VALUE=URI:http://umland.kika-dresden.de/termin1592895.html
DTSTAMP:20260423T061935Z
UID:69e9b9f7ecede
END:VEVENT
END:VCALENDAR