BEGIN:VCALENDAR
VERSION:2.0
PRODID:-//hacksw/handcal//NONSGML v1.0//EN
CALSCALE:GREGORIAN
BEGIN:VEVENT
SUMMARY:Hoppers
DTSTART:20260310T133000Z
DTEND:20260310T154400Z
GEO:51.07124;13.75051
LOCATION:Filmtheater Schauburg\, Königsbrücker Straße 55\, 01099 Dresden
DESCRIPTION:
URL;VALUE=URI:http://umland.kika-dresden.de/termin1590048.html
DTSTAMP:20260424T123054Z
UID:69eb627e5fc71
END:VEVENT
END:VCALENDAR