BEGIN:VCALENDAR
VERSION:2.0
PRODID:-//hacksw/handcal//NONSGML v1.0//EN
CALSCALE:GREGORIAN
BEGIN:VEVENT
SUMMARY:DIE GEILSTE LÜCKE IM LEBENSLAUF -  6 Jahre Backpacking-Weltreise  
DTSTART:20261117T190000Z
GEO:51.07124;13.75051
LOCATION:Filmtheater Schauburg\, Königsbrücker Straße 55\, 01099 Dresden
DESCRIPTION:
URL;VALUE=URI:http://umland.kika-dresden.de/termin1590044.html
DTSTAMP:20260423T062049Z
UID:69e9ba414752b
END:VEVENT
END:VCALENDAR