BEGIN:VCALENDAR
VERSION:2.0
PRODID:-//hacksw/handcal//NONSGML v1.0//EN
CALSCALE:GREGORIAN
BEGIN:VEVENT
SUMMARY:Wuthering Heights - Sturmhöhe
DTSTART:20260309T183000Z
DTEND:20260309T211600Z
GEO:50.962054,13.934694
LOCATION:Filmpalast Pirna\, Gartenstraße 11\, 01796 Pirna
DESCRIPTION:
URL;VALUE=URI:http://umland.kika-dresden.de/termin1589404.html
DTSTAMP:20260424T220727Z
UID:69ebe99fd4c07
END:VEVENT
END:VCALENDAR