BEGIN:VCALENDAR
VERSION:2.0
PRODID:-//hacksw/handcal//NONSGML v1.0//EN
CALSCALE:GREGORIAN
BEGIN:VEVENT
SUMMARY:Die Drei ??? - Toteninsel
DTSTART:20260309T161000Z
GEO:51.04487;13.73697
LOCATION:Rundkino Dresden\, Prager Straße 6\, 01069 Dresden
DESCRIPTION:
URL;VALUE=URI:http://umland.kika-dresden.de/termin1588938.html
DTSTAMP:20260423T160028Z
UID:69ea421c42cae
END:VEVENT
END:VCALENDAR