BEGIN:VCALENDAR
VERSION:2.0
PRODID:-//hacksw/handcal//NONSGML v1.0//EN
CALSCALE:GREGORIAN
BEGIN:VEVENT
SUMMARY:Die progressiven Nostalgiker
DTSTART:20260303T120000Z
DTEND:20260303T141300Z
GEO:51.07124;13.75051
LOCATION:Filmtheater Schauburg\, Königsbrücker Straße 55\, 01099 Dresden
DESCRIPTION:
URL;VALUE=URI:http://umland.kika-dresden.de/termin1588561.html
DTSTAMP:20260424T093247Z
UID:69eb38bfeb43d
END:VEVENT
END:VCALENDAR