BEGIN:VCALENDAR
VERSION:2.0
PRODID:-//hacksw/handcal//NONSGML v1.0//EN
CALSCALE:GREGORIAN
BEGIN:VEVENT
SUMMARY:Die Drei ??? - Toteninsel
DTSTART:20260303T143000Z
DTEND:20260303T164400Z
GEO:50.907852,13.317505
LOCATION:Kinopolis Freiberg\, Chemnitzer Strasse 133\, 09599 Freiberg
DESCRIPTION:
URL;VALUE=URI:http://umland.kika-dresden.de/termin1588338.html
DTSTAMP:20260421T043018Z
UID:69e6fd5aae3d7
END:VEVENT
END:VCALENDAR