BEGIN:VCALENDAR
VERSION:2.0
PRODID:-//hacksw/handcal//NONSGML v1.0//EN
CALSCALE:GREGORIAN
BEGIN:VEVENT
SUMMARY:Extrawurst
DTSTART:20260227T193000Z
DTEND:20260227T213800Z
GEO:51.05182;13.80533
LOCATION:CinemaxX\, Hüblerstr. 8\, 01309 Dresden
DESCRIPTION:
URL;VALUE=URI:http://umland.kika-dresden.de/termin1588014.html
DTSTAMP:20260419T133459Z
UID:69e4da03da3e0
END:VEVENT
END:VCALENDAR