BEGIN:VCALENDAR
VERSION:2.0
PRODID:-//hacksw/handcal//NONSGML v1.0//EN
CALSCALE:GREGORIAN
BEGIN:VEVENT
SUMMARY:Copa 71
DTSTART:20260331T080000Z
DTEND:20260331T100000Z
GEO:51.04594;13.67510
LOCATION:Passage\, Leutewitzer Ring 5\, 01169 Dresden
DESCRIPTION:
URL;VALUE=URI:http://umland.kika-dresden.de/termin1587162.html
DTSTAMP:20260424T220754Z
UID:69ebe9ba0f705
END:VEVENT
END:VCALENDAR