BEGIN:VCALENDAR
VERSION:2.0
PRODID:-//hacksw/handcal//NONSGML v1.0//EN
CALSCALE:GREGORIAN
BEGIN:VEVENT
SUMMARY:Dust Bunny
DTSTART:20260303T200000Z
DTEND:20260303T221600Z
GEO:51.052574;13.721402
LOCATION:Zentralkino\, Kraftwerk Mitte 16\, 01067 Dresden-Mitte
DESCRIPTION:
URL;VALUE=URI:http://umland.kika-dresden.de/termin1587112.html
DTSTAMP:20260419T140756Z
UID:69e4e1bcec30f
END:VEVENT
END:VCALENDAR