BEGIN:VCALENDAR
VERSION:2.0
PRODID:-//hacksw/handcal//NONSGML v1.0//EN
CALSCALE:GREGORIAN
BEGIN:VEVENT
SUMMARY:Sterne
DTSTART:20260401T173000Z
DTEND:20260401T193200Z
LOCATION:Clubkino im Lingnerschloss\, Bautzner Straße 132\, 01099 Dresden
DESCRIPTION:
URL;VALUE=URI:http://umland.kika-dresden.de/termin1587084.html
DTSTAMP:20260424T081737Z
UID:69eb27210487f
END:VEVENT
END:VCALENDAR