BEGIN:VCALENDAR
VERSION:2.0
PRODID:-//hacksw/handcal//NONSGML v1.0//EN
CALSCALE:GREGORIAN
BEGIN:VEVENT
SUMMARY:Night Stage
DTSTART:20260216T191500Z
DTEND:20260216T214400Z
GEO:51.052574;13.721402
LOCATION:Zentralkino\, Kraftwerk Mitte 16\, 01067 Dresden-Mitte
DESCRIPTION:
URL;VALUE=URI:http://umland.kika-dresden.de/termin1584104.html
DTSTAMP:20260419T174014Z
UID:69e5137e6b3d8
END:VEVENT
END:VCALENDAR