BEGIN:VCALENDAR
VERSION:2.0
PRODID:-//hacksw/handcal//NONSGML v1.0//EN
CALSCALE:GREGORIAN
BEGIN:VEVENT
SUMMARY:Die Schule der magischen Tiere 4
DTSTART:20260102T120000Z
DTEND:20260102T141200Z
GEO:51.07124;13.75051
LOCATION:Filmtheater Schauburg\, Königsbrücker Straße 55\, 01099 Dresden
DESCRIPTION:
URL;VALUE=URI:http://umland.kika-dresden.de/termin1576086.html
DTSTAMP:20260419T133534Z
UID:69e4da26e2a8f
END:VEVENT
END:VCALENDAR