BEGIN:VCALENDAR
VERSION:2.0
PRODID:-//hacksw/handcal//NONSGML v1.0//EN
CALSCALE:GREGORIAN
BEGIN:VEVENT
SUMMARY:SpongeBob Schwammkopf: Piraten Ahoi!
DTSTART:20260105T160000Z
DTEND:20260105T175900Z
GEO:50.907852,13.317505
LOCATION:Kinopolis Freiberg\, Chemnitzer Strasse 133\, 09599 Freiberg
DESCRIPTION:
URL;VALUE=URI:http://umland.kika-dresden.de/termin1575328.html
DTSTAMP:20260420T031305Z
UID:69e599c12feb5
END:VEVENT
END:VCALENDAR