BEGIN:VCALENDAR
VERSION:2.0
PRODID:-//hacksw/handcal//NONSGML v1.0//EN
CALSCALE:GREGORIAN
BEGIN:VEVENT
SUMMARY:SpongeBob Schwammkopf: Piraten Ahoi!
DTSTART:20260105T173000Z
DTEND:20260105T192900Z
GEO:50.962054,13.934694
LOCATION:Filmpalast Pirna\, Gartenstraße 11\, 01796 Pirna
DESCRIPTION:
URL;VALUE=URI:http://umland.kika-dresden.de/termin1575073.html
DTSTAMP:20260421T035245Z
UID:69e6f48d8d631
END:VEVENT
END:VCALENDAR