BEGIN:VCALENDAR
VERSION:2.0
PRODID:-//hacksw/handcal//NONSGML v1.0//EN
CALSCALE:GREGORIAN
BEGIN:VEVENT
SUMMARY:Avatar: Fire And Ash
DTSTART:20251219T184000Z
DTEND:20251219T222500Z
GEO:51.04384;13.73755
LOCATION:Cineplex Kristallpalast Dresden\, St. Petersburger Straße 24a\, 01069 Dresden
DESCRIPTION:
URL;VALUE=URI:http://umland.kika-dresden.de/termin1572429.html
DTSTAMP:20260425T222103Z
UID:69ed3e4f0342d
END:VEVENT
END:VCALENDAR