BEGIN:VCALENDAR
VERSION:2.0
PRODID:-//hacksw/handcal//NONSGML v1.0//EN
CALSCALE:GREGORIAN
BEGIN:VEVENT
SUMMARY:Checker Tobi und das Geheimnis unseres Planeten
DTSTART:20251101T094500Z
DTEND:20251101T114500Z
GEO:51.07124;13.75051
LOCATION:Filmtheater Schauburg\, Königsbrücker Straße 55\, 01099 Dresden
DESCRIPTION:
URL;VALUE=URI:http://umland.kika-dresden.de/termin1560712.html
DTSTAMP:20260420T070609Z
UID:69e5d06123f12
END:VEVENT
END:VCALENDAR