BEGIN:VCALENDAR
VERSION:2.0
PRODID:-//hacksw/handcal//NONSGML v1.0//EN
CALSCALE:GREGORIAN
BEGIN:VEVENT
SUMMARY:Tron: Ares
DTSTART:20251101T204500Z
GEO:51.305577,13.303776
LOCATION:Capitol Riesa\, Hauptstr. 72a\, 01587 Riesa
DESCRIPTION:
URL;VALUE=URI:http://umland.kika-dresden.de/termin1559786.html
DTSTAMP:20260423T070306Z
UID:69e9c42aa9f51
END:VEVENT
END:VCALENDAR