BEGIN:VCALENDAR
VERSION:2.0
PRODID:-//hacksw/handcal//NONSGML v1.0//EN
CALSCALE:GREGORIAN
BEGIN:VEVENT
SUMMARY:Im Prinzip Familie
DTSTART:20250610T101500Z
DTEND:20250610T121500Z
GEO:51.07124;13.75051
LOCATION:Filmtheater Schauburg\, Königsbrücker Straße 55\, 01099 Dresden
DESCRIPTION:
URL;VALUE=URI:http://umland.kika-dresden.de/termin1522035.html
DTSTAMP:20260420T140522Z
UID:69e632a20827c
END:VEVENT
END:VCALENDAR