BEGIN:VCALENDAR
VERSION:2.0
PRODID:-//hacksw/handcal//NONSGML v1.0//EN
CALSCALE:GREGORIAN
BEGIN:VEVENT
SUMMARY:Wunderschöner
DTSTART:20250325T183000Z
DTEND:20250325T211800Z
GEO:51.07124;13.75051
LOCATION:Filmtheater Schauburg\, Königsbrücker Straße 55\, 01099 Dresden
DESCRIPTION:
URL;VALUE=URI:http://umland.kika-dresden.de/termin1502752.html
DTSTAMP:20260420T033900Z
UID:69e59fd49a935
END:VEVENT
END:VCALENDAR