BEGIN:VCALENDAR
VERSION:2.0
PRODID:-//hacksw/handcal//NONSGML v1.0//EN
CALSCALE:GREGORIAN
BEGIN:VEVENT
SUMMARY:Gefährliche Brandung
DTSTART:20240806T180000Z
DTEND:20240806T203200Z
GEO:51.07124;13.75051
LOCATION:Filmtheater Schauburg\, Königsbrücker Straße 55\, 01099 Dresden
DESCRIPTION:
URL;VALUE=URI:http://umland.kika-dresden.de/termin1443569.html
DTSTAMP:20260424T081600Z
UID:69eb26c0a8696
END:VEVENT
END:VCALENDAR