BEGIN:VCALENDAR
VERSION:2.0
PRODID:-//hacksw/handcal//NONSGML v1.0//EN
CALSCALE:GREGORIAN
BEGIN:VEVENT
SUMMARY:Die Schule der magischen Tiere
DTSTART:20240803T074500Z
DTEND:20240803T094800Z
GEO:51.07124;13.75051
LOCATION:Filmtheater Schauburg\, Königsbrücker Straße 55\, 01099 Dresden
DESCRIPTION:
URL;VALUE=URI:http://umland.kika-dresden.de/termin1443451.html
DTSTAMP:20260424T170653Z
UID:69eba32d0bafa
END:VEVENT
END:VCALENDAR