BEGIN:VCALENDAR
VERSION:2.0
PRODID:-//hacksw/handcal//NONSGML v1.0//EN
CALSCALE:GREGORIAN
BEGIN:VEVENT
SUMMARY:Garfield - Eine Extra Portion Abenteuer
DTSTART:20240612T131500Z
DTEND:20240612T152700Z
GEO:51.07124;13.75051
LOCATION:Filmtheater Schauburg\, Königsbrücker Straße 55\, 01099 Dresden
DESCRIPTION:
URL;VALUE=URI:http://umland.kika-dresden.de/termin1426357.html
DTSTAMP:20260424T081837Z
UID:69eb275d85e18
END:VEVENT
END:VCALENDAR