BEGIN:VCALENDAR
VERSION:2.0
PRODID:-//hacksw/handcal//NONSGML v1.0//EN
CALSCALE:GREGORIAN
BEGIN:VEVENT
SUMMARY:Yakari - Der Kinofilm
DTSTART:20210803T073000Z
DTEND:20210803T092200Z
GEO:51.07124;13.75051
LOCATION:Filmtheater Schauburg\, Königsbrücker Straße 55\, 01099 Dresden
DESCRIPTION:
URL;VALUE=URI:http://umland.kika-dresden.de/termin1140238.html
DTSTAMP:20260424T220743Z
UID:69ebe9af9fb56
END:VEVENT
END:VCALENDAR